BEGIN:VCALENDAR
VERSION:2.0
PRODID:-//wp-events-plugin.com//7.2.3.1//EN
TZID:Europe/Berlin
X-WR-TIMEZONE:Europe/Berlin
BEGIN:VEVENT
UID:2@basilikakonzerte.at
DTSTART;TZID=Europe/Berlin:20240609T190000
DTEND;TZID=Europe/Berlin:20240609T190000
DTSTAMP:20241007T163038Z
URL:https://basilikakonzerte.at/events/barocke-pracht-en-suite/
SUMMARY:Barocke Pracht en suite
DESCRIPTION:Jürgen Ellensohn\, Jürgen Natter\n\nJürgen Ellensohn Trompet
 e\, Jürgen Natter Orgel\n\nBarocke Pracht en suite... vereinigt sowohl vi
 rtuose als auch lyrische Höhepunkte des hochbarocken Repertoires für Tro
 mpete und Orgel. Es bildet damit zugleich Kern und Rahmen für Ausflüge i
 ns Zeitgenössische: einerseits durch die fulminanten\, selten gespielten 
 Variationen von Kamilló Lendvay\, andererseits bietet sich auch Raum für
  die Welt der freien Improvisation. Während das Werk von Lendvay eine Ori
 ginalkomposition für diese prominente Besetzung ist\, handelt es sich bei
  den barocken Perlen durchwegs um gelungene Adaptionen\, in denen die Klan
 gpracht der Orgel dem eigentlich zugedachten Ensemblepart in nichts nachst
 eht.© Foto: Fredi Roth\, Widnau
ATTACH;FMTTYPE=image/jpeg:https://basilikakonzerte.at/wp-content/uploads/2
 024/04/2024-06-09-Ellensohn-Natter.jpg
LOCATION:https://basilikakonzerte.at/anfahrt
END:VEVENT
BEGIN:VTIMEZONE
TZID:Europe/Berlin
X-LIC-LOCATION:Europe/Berlin
BEGIN:DAYLIGHT
DTSTART:20240331T030000
TZOFFSETFROM:+0100
TZOFFSETTO:+0200
TZNAME:CEST
END:DAYLIGHT
END:VTIMEZONE
END:VCALENDAR