BEGIN:VCALENDAR
VERSION:2.0
PRODID:-//wp-events-plugin.com//7.2.3.1//EN
TZID:Europe/Berlin
X-WR-TIMEZONE:Europe/Berlin
BEGIN:VEVENT
UID:49@basilikakonzerte.at
DTSTART;TZID=Europe/Berlin:20180422T200000
DTEND;TZID=Europe/Berlin:20180422T200000
DTSTAMP:20241010T192100Z
URL:https://basilikakonzerte.at/events/bruckner-pur/
SUMMARY:BRUCKNER Pur
DESCRIPTION:Chor- und Instrumentalmusik des oberösterreichischen Meisters\
 n\nKammerchor Feldkirch\, Bläserensemble der Dommusik\, Benjamin Lack - L
 eitung\n\nDie 1866 anlässlich der Eröffnung der Votivkapelle des Linzer 
 Doms entstandene und zuletzt von Bruckner 1882 revidierte Messe in e-moll 
 gehört zu den heikelsten und schwierigsten Chorwerken überhaupt. Neben e
 inem durch die Bläserbesetzung besonderen Klangbild verlangt sie vom Chor
  aufgrund vieler unbegleiteter und langsamer Passagen Extremes. Bruckners 
 kompositorische Meisterschaft sorgt aber dafür\, dass deswegen die Schön
 heit nicht leidet\, sondern dass gerade dadurch eine wunderbare Stimmung e
 ntsteht\, die das Werk als ein ganz besonderes ausweist. Ein Höhepunkt de
 r geistlichen Chormusik! Weitere Chor- und Instrumentalwerke des oberöste
 rreichischen Meisters ergänzen das Programm.\n\nJubiläumskonzert zum 30-
 jährigen Bestehen der Rankweiler Basilikakonzerte.\n\nKonzertprogramm\nKr
 itik in der VN vom 24.04.2018\nKritik in der NEUE vom 24.04.2018
ATTACH;FMTTYPE=image/jpeg:https://basilikakonzerte.at/wp-content/uploads/2
 024/09/2018-04-22-Bruckner-Pur.png
LOCATION:https://basilikakonzerte.at/anfahrt/
END:VEVENT
BEGIN:VTIMEZONE
TZID:Europe/Berlin
X-LIC-LOCATION:Europe/Berlin
BEGIN:DAYLIGHT
DTSTART:20180325T030000
TZOFFSETFROM:+0100
TZOFFSETTO:+0200
TZNAME:CEST
END:DAYLIGHT
END:VTIMEZONE
END:VCALENDAR