BEGIN:VCALENDAR
VERSION:2.0
PRODID:-//wp-events-plugin.com//7.2.3.1//EN
TZID:Europe/Berlin
X-WR-TIMEZONE:Europe/Berlin
BEGIN:VEVENT
UID:42@basilikakonzerte.at
DTSTART;TZID=Europe/Berlin:20170402T200000
DTEND;TZID=Europe/Berlin:20170402T200000
DTSTAMP:20241010T190337Z
URL:https://basilikakonzerte.at/events/herr-du-kennst-die-geheimnisse-unse
 rer-herzen/
SUMMARY:Herr\, du kennst die Geheimnisse unserer Herzen
DESCRIPTION:Trauermusiken zur Passionszeit\n\nAnita-Flurina Ströhle - Sopr
 an Veronika Dünser - Alt David Burgstaller - Tenor Matthias Haid - Bass B
 asilikachor Rankweil Ad hoc Orchester Markus Kessler - Konzertmeister Gerd
 a Poppa Orgel Michael Fliri - Leitung\n\nFür das Begräbnis der Queen Mar
 y II. of England schrieb Henry Purcell eine berührende Trauermusik\, in w
 elcher die Verbindung von Trauer und Schmerz mit einer unbeschreiblichen S
 chönheit des Klanges und damit besonderem Trost gelingt. Als Überleitung
  zu Michael Haydns Requiem erklingt das Stück „The Queen‘s farewell
 “ von James Paisible. Das Requiem in c-Moll von Johann Michael Haydn nim
 mt im reichhaltigen Schaffen des „Salzburger Haydn“ eine besondere Ste
 llung ein\, ist es doch nicht zuletzt in Teilen ein Vorbild für Wolfgang 
 Amadeus Mozarts berühmte Komposition derselben Gattung.\n\nKonzertprogram
 m
ATTACH;FMTTYPE=image/jpeg:https://basilikakonzerte.at/wp-content/uploads/2
 024/09/2017-04-02-Herr-du-kennst-die-Geheimnisse-unserer-Herzen-scaled.jpg
LOCATION:https://basilikakonzerte.at/anfahrt/
END:VEVENT
BEGIN:VTIMEZONE
TZID:Europe/Berlin
X-LIC-LOCATION:Europe/Berlin
BEGIN:DAYLIGHT
DTSTART:20170326T030000
TZOFFSETFROM:+0100
TZOFFSETTO:+0200
TZNAME:CEST
END:DAYLIGHT
END:VTIMEZONE
END:VCALENDAR